BEGIN:VCALENDAR
VERSION:2.0
PRODID:-//Dynamic Gun Club e. V. - ECPv6.15.20//NONSGML v1.0//EN
CALSCALE:GREGORIAN
METHOD:PUBLISH
X-ORIGINAL-URL:https://www.dynamic-gun-club.de
X-WR-CALDESC:Veranstaltungen für Dynamic Gun Club e. V.
REFRESH-INTERVAL;VALUE=DURATION:PT1H
X-Robots-Tag:noindex
X-PUBLISHED-TTL:PT1H
BEGIN:VTIMEZONE
TZID:Europe/Berlin
BEGIN:DAYLIGHT
TZOFFSETFROM:+0100
TZOFFSETTO:+0200
TZNAME:CEST
DTSTART:20230326T010000
END:DAYLIGHT
BEGIN:STANDARD
TZOFFSETFROM:+0200
TZOFFSETTO:+0100
TZNAME:CET
DTSTART:20231029T010000
END:STANDARD
BEGIN:DAYLIGHT
TZOFFSETFROM:+0100
TZOFFSETTO:+0200
TZNAME:CEST
DTSTART:20240331T010000
END:DAYLIGHT
BEGIN:STANDARD
TZOFFSETFROM:+0200
TZOFFSETTO:+0100
TZNAME:CET
DTSTART:20241027T010000
END:STANDARD
BEGIN:DAYLIGHT
TZOFFSETFROM:+0100
TZOFFSETTO:+0200
TZNAME:CEST
DTSTART:20250330T010000
END:DAYLIGHT
BEGIN:STANDARD
TZOFFSETFROM:+0200
TZOFFSETTO:+0100
TZNAME:CET
DTSTART:20251026T010000
END:STANDARD
END:VTIMEZONE
BEGIN:VEVENT
DTSTART;TZID=Europe/Berlin:20241019T160000
DTEND;TZID=Europe/Berlin:20241019T170000
DTSTAMP:20260425T122152
CREATED:20241012T193426Z
LAST-MODIFIED:20241012T193426Z
UID:1769-1729353600-1729357200@www.dynamic-gun-club.de
SUMMARY:Training Dynamisch Halstenbek 19.10.2024 16-17Uhr
DESCRIPTION:Willkommen auf unserer Buchungsseite für das Schießtraining auf unserem dynamischen 25-50m Stand!\nAuf unserem Stand können sowohl Langwaffen (Flinte nur mit Slugs) als auch Kurzwaffen bis 4000J geschossen werden. Wir bieten Mehrdistanztraining an und sind auch dabei ein IPSC-Training zu ermöglichen. \nWir legen großen Wert auf die Sicherheit unserer Mitglieder und Gäste. Daher musst Du während des Trainings einen Gehörschutz und eine Schutzbrille tragen. Diese können in begrenzten Mengen auch zur Verfügung gestellt werden. Waffen und Munition sind vor Ort erhältlich.
URL:https://www.dynamic-gun-club.de/event/training-dynamisch-halstenbek-19-10-2024-16-17uhr/
LOCATION:Halstenbeker Schützenverein\, Am Schützenpl. 24\, Halstenbek\, 25469\, Deutschland
CATEGORIES:Dynamisches Training
ATTACH;FMTTYPE=image/jpeg:https://www.dynamic-gun-club.de/wp-content/uploads/2024/03/pexels-karolina-grabowska-5202383-scaled-e1675621272459-TgItwH.tmp_.jpg
ORGANIZER;CN="Dynamic Gun Club e.V.":MAILTO:kontakt@dynamic-gun-club.de
END:VEVENT
BEGIN:VEVENT
DTSTART;TZID=Europe/Berlin:20241019T170000
DTEND;TZID=Europe/Berlin:20241019T180000
DTSTAMP:20260425T122152
CREATED:20241012T193742Z
LAST-MODIFIED:20241012T193742Z
UID:1772-1729357200-1729360800@www.dynamic-gun-club.de
SUMMARY:Training Dynamisch Halstenbek 19.10.2024 17-18Uhr
DESCRIPTION:Willkommen auf unserer Buchungsseite für das Schießtraining auf unserem dynamischen 25-50m Stand!\nAuf unserem Stand können sowohl Langwaffen (Flinte nur mit Slugs) als auch Kurzwaffen bis 4000J geschossen werden. Wir bieten Mehrdistanztraining an und sind auch dabei ein IPSC-Training zu ermöglichen. \nWir legen großen Wert auf die Sicherheit unserer Mitglieder und Gäste. Daher musst Du während des Trainings einen Gehörschutz und eine Schutzbrille tragen. Diese können in begrenzten Mengen auch zur Verfügung gestellt werden. Waffen und Munition sind vor Ort erhältlich.
URL:https://www.dynamic-gun-club.de/event/training-dynamisch-halstenbek-19-10-2024-17-18uhr/
LOCATION:Halstenbeker Schützenverein\, Am Schützenpl. 24\, Halstenbek\, 25469\, Deutschland
CATEGORIES:Dynamisches Training
ATTACH;FMTTYPE=image/jpeg:https://www.dynamic-gun-club.de/wp-content/uploads/2021/11/pexels-karolina-grabowska-5202383-scaled-e1675621272459.jpg
ORGANIZER;CN="Dynamic Gun Club e.V.":MAILTO:kontakt@dynamic-gun-club.de
END:VEVENT
END:VCALENDAR