BEGIN:VCALENDAR
VERSION:2.0
PRODID:-//Dynamic Gun Club e. V. - ECPv6.15.20//NONSGML v1.0//EN
CALSCALE:GREGORIAN
METHOD:PUBLISH
X-WR-CALNAME:Dynamic Gun Club e. V.
X-ORIGINAL-URL:https://www.dynamic-gun-club.de
X-WR-CALDESC:Veranstaltungen für Dynamic Gun Club e. V.
REFRESH-INTERVAL;VALUE=DURATION:PT1H
X-Robots-Tag:noindex
X-PUBLISHED-TTL:PT1H
BEGIN:VTIMEZONE
TZID:Europe/Berlin
BEGIN:DAYLIGHT
TZOFFSETFROM:+0100
TZOFFSETTO:+0200
TZNAME:CEST
DTSTART:20230326T010000
END:DAYLIGHT
BEGIN:STANDARD
TZOFFSETFROM:+0200
TZOFFSETTO:+0100
TZNAME:CET
DTSTART:20231029T010000
END:STANDARD
BEGIN:DAYLIGHT
TZOFFSETFROM:+0100
TZOFFSETTO:+0200
TZNAME:CEST
DTSTART:20240331T010000
END:DAYLIGHT
BEGIN:STANDARD
TZOFFSETFROM:+0200
TZOFFSETTO:+0100
TZNAME:CET
DTSTART:20241027T010000
END:STANDARD
BEGIN:DAYLIGHT
TZOFFSETFROM:+0100
TZOFFSETTO:+0200
TZNAME:CEST
DTSTART:20250330T010000
END:DAYLIGHT
BEGIN:STANDARD
TZOFFSETFROM:+0200
TZOFFSETTO:+0100
TZNAME:CET
DTSTART:20251026T010000
END:STANDARD
END:VTIMEZONE
BEGIN:VEVENT
DTSTART;TZID=Europe/Berlin:20241110T100000
DTEND;TZID=Europe/Berlin:20241110T110000
DTSTAMP:20260425T121904
CREATED:20240704T211226Z
LAST-MODIFIED:20240704T211226Z
UID:1643-1731232800-1731236400@www.dynamic-gun-club.de
SUMMARY:Training Statisch Reinbek 10.11.2024 10-11Uhr
DESCRIPTION:Willkommen auf unserer Buchungsseite für das Kurzwaffentraining auf unserem statischen 25m Stand!\nAuf diesem Stand können Kurzwaffen und Langwaffen bis 1500J geschossen werden. Auch Vorderlader sind möglich\, muss aber vorher abgesprochen werden. \nWir legen großen Wert auf die Sicherheit unserer Mitglieder und Gäste. Daher musst Du während des Trainings einen Gehörschutz und eine Schutzbrille tragen. Diese können in begrenzten Mengen auch zur Verfügung gestellt werden. Waffen und Munition sind vor Ort erhältlich.
URL:https://www.dynamic-gun-club.de/event/training-statisch-reinbek-10-11-2024-10-11uhr/
LOCATION:Reinbeker Schützenverein von 1874 e.V.\, Loddenallee 4\, Reinbek\, Hamburg\, 21465\, Deutschland
CATEGORIES:Kurzwaffentraining
ATTACH;FMTTYPE=image/jpeg:https://www.dynamic-gun-club.de/wp-content/uploads/2023/01/hand-3052115_640-e1674247857434.jpg
ORGANIZER;CN="Dynamic Gun Club e.V.":MAILTO:kontakt@dynamic-gun-club.de
END:VEVENT
BEGIN:VEVENT
DTSTART;TZID=Europe/Berlin:20241110T110000
DTEND;TZID=Europe/Berlin:20241110T120000
DTSTAMP:20260425T121904
CREATED:20240704T211435Z
LAST-MODIFIED:20240704T211435Z
UID:1646-1731236400-1731240000@www.dynamic-gun-club.de
SUMMARY:Training Statisch Reinbek 10.11.2024 11-12Uhr
DESCRIPTION:Willkommen auf unserer Buchungsseite für das Kurzwaffentraining auf unserem statischen 25m Stand!\nAuf diesem Stand können Kurzwaffen und Langwaffen bis 1500J geschossen werden. Auch Vorderlader sind möglich\, muss aber vorher abgesprochen werden. \nWir legen großen Wert auf die Sicherheit unserer Mitglieder und Gäste. Daher musst Du während des Trainings einen Gehörschutz und eine Schutzbrille tragen. Diese können in begrenzten Mengen auch zur Verfügung gestellt werden. Waffen und Munition sind vor Ort erhältlich.
URL:https://www.dynamic-gun-club.de/event/training-statisch-reinbek-10-11-2024-11-12uhr/
LOCATION:Reinbeker Schützenverein von 1874 e.V.\, Loddenallee 4\, Reinbek\, Hamburg\, 21465\, Deutschland
CATEGORIES:Kurzwaffentraining
ATTACH;FMTTYPE=image/jpeg:https://www.dynamic-gun-club.de/wp-content/uploads/2023/01/hand-3052115_640-e1674247857434.jpg
ORGANIZER;CN="Dynamic Gun Club e.V.":MAILTO:kontakt@dynamic-gun-club.de
END:VEVENT
END:VCALENDAR