BEGIN:VCALENDAR
VERSION:2.0
PRODID:-//Dynamic Gun Club e. V. - ECPv6.15.20//NONSGML v1.0//EN
CALSCALE:GREGORIAN
METHOD:PUBLISH
X-ORIGINAL-URL:https://www.dynamic-gun-club.de
X-WR-CALDESC:Veranstaltungen für Dynamic Gun Club e. V.
REFRESH-INTERVAL;VALUE=DURATION:PT1H
X-Robots-Tag:noindex
X-PUBLISHED-TTL:PT1H
BEGIN:VTIMEZONE
TZID:Europe/Berlin
BEGIN:DAYLIGHT
TZOFFSETFROM:+0100
TZOFFSETTO:+0200
TZNAME:CEST
DTSTART:20240331T010000
END:DAYLIGHT
BEGIN:STANDARD
TZOFFSETFROM:+0200
TZOFFSETTO:+0100
TZNAME:CET
DTSTART:20241027T010000
END:STANDARD
BEGIN:DAYLIGHT
TZOFFSETFROM:+0100
TZOFFSETTO:+0200
TZNAME:CEST
DTSTART:20250330T010000
END:DAYLIGHT
BEGIN:STANDARD
TZOFFSETFROM:+0200
TZOFFSETTO:+0100
TZNAME:CET
DTSTART:20251026T010000
END:STANDARD
BEGIN:DAYLIGHT
TZOFFSETFROM:+0100
TZOFFSETTO:+0200
TZNAME:CEST
DTSTART:20260329T010000
END:DAYLIGHT
BEGIN:STANDARD
TZOFFSETFROM:+0200
TZOFFSETTO:+0100
TZNAME:CET
DTSTART:20261025T010000
END:STANDARD
END:VTIMEZONE
BEGIN:VEVENT
DTSTART;TZID=Europe/Berlin:20251012T100000
DTEND;TZID=Europe/Berlin:20251012T110000
DTSTAMP:20260424T183130
CREATED:20250930T060617Z
LAST-MODIFIED:20250930T060617Z
UID:1942-1760263200-1760266800@www.dynamic-gun-club.de
SUMMARY:Training Statisch Reinbek
DESCRIPTION:Willkommen auf unserer Buchungsseite für das Kurzwaffentraining auf unserem statischen 25m Stand!\nAuf diesem Stand können Kurzwaffen und Langwaffen bis 1500J geschossen werden. Auch Vorderlader sind möglich\, muss aber vorher abgesprochen werden. \nWir legen großen Wert auf die Sicherheit unserer Mitglieder und Gäste. Daher musst Du während des Trainings einen Gehörschutz und eine Schutzbrille tragen. Diese können in begrenzten Mengen auch zur Verfügung gestellt werden. Waffen und Munition sind vor Ort erhältlich.
URL:https://www.dynamic-gun-club.de/event/training-statisch-reinbek-20/
LOCATION:Reinbeker Schützenverein von 1874 e.V.\, Loddenallee 4\, Reinbek\, Hamburg\, 21465\, Deutschland
CATEGORIES:Kurzwaffentraining
ATTACH;FMTTYPE=image/jpeg:https://www.dynamic-gun-club.de/wp-content/uploads/2023/01/hand-3052115_640-e1674247857434.jpg
ORGANIZER;CN="Dynamic Gun Club e.V.":MAILTO:kontakt@dynamic-gun-club.de
END:VEVENT
BEGIN:VEVENT
DTSTART;TZID=Europe/Berlin:20251012T110000
DTEND;TZID=Europe/Berlin:20251012T120000
DTSTAMP:20260424T183130
CREATED:20250930T060722Z
LAST-MODIFIED:20250930T060722Z
UID:1954-1760266800-1760270400@www.dynamic-gun-club.de
SUMMARY:Training Statisch Reinbek
DESCRIPTION:Willkommen auf unserer Buchungsseite für das Kurzwaffentraining auf unserem statischen 25m Stand!\nAuf diesem Stand können Kurzwaffen und Langwaffen bis 1500J geschossen werden. Auch Vorderlader sind möglich\, muss aber vorher abgesprochen werden. \nWir legen großen Wert auf die Sicherheit unserer Mitglieder und Gäste. Daher musst Du während des Trainings einen Gehörschutz und eine Schutzbrille tragen. Diese können in begrenzten Mengen auch zur Verfügung gestellt werden. Waffen und Munition sind vor Ort erhältlich.
URL:https://www.dynamic-gun-club.de/event/training-statisch-reinbek-21/
LOCATION:Reinbeker Schützenverein von 1874 e.V.\, Loddenallee 4\, Reinbek\, Hamburg\, 21465\, Deutschland
CATEGORIES:Kurzwaffentraining
ATTACH;FMTTYPE=image/jpeg:https://www.dynamic-gun-club.de/wp-content/uploads/2023/01/hand-3052115_640-e1674247857434.jpg
ORGANIZER;CN="Dynamic Gun Club e.V.":MAILTO:kontakt@dynamic-gun-club.de
END:VEVENT
END:VCALENDAR