BEGIN:VCALENDAR
VERSION:2.0
PRODID:-//Dynamic Gun Club e. V. - ECPv6.15.20//NONSGML v1.0//EN
CALSCALE:GREGORIAN
METHOD:PUBLISH
X-WR-CALNAME:Dynamic Gun Club e. V.
X-ORIGINAL-URL:https://www.dynamic-gun-club.de
X-WR-CALDESC:Veranstaltungen für Dynamic Gun Club e. V.
REFRESH-INTERVAL;VALUE=DURATION:PT1H
X-Robots-Tag:noindex
X-PUBLISHED-TTL:PT1H
BEGIN:VTIMEZONE
TZID:Europe/Berlin
BEGIN:DAYLIGHT
TZOFFSETFROM:+0100
TZOFFSETTO:+0200
TZNAME:CEST
DTSTART:20240331T010000
END:DAYLIGHT
BEGIN:STANDARD
TZOFFSETFROM:+0200
TZOFFSETTO:+0100
TZNAME:CET
DTSTART:20241027T010000
END:STANDARD
BEGIN:DAYLIGHT
TZOFFSETFROM:+0100
TZOFFSETTO:+0200
TZNAME:CEST
DTSTART:20250330T010000
END:DAYLIGHT
BEGIN:STANDARD
TZOFFSETFROM:+0200
TZOFFSETTO:+0100
TZNAME:CET
DTSTART:20251026T010000
END:STANDARD
BEGIN:DAYLIGHT
TZOFFSETFROM:+0100
TZOFFSETTO:+0200
TZNAME:CEST
DTSTART:20260329T010000
END:DAYLIGHT
BEGIN:STANDARD
TZOFFSETFROM:+0200
TZOFFSETTO:+0100
TZNAME:CET
DTSTART:20261025T010000
END:STANDARD
END:VTIMEZONE
BEGIN:VEVENT
DTSTART;TZID=Europe/Berlin:20251018T160000
DTEND;TZID=Europe/Berlin:20251018T170000
DTSTAMP:20260424T182844
CREATED:20250930T061218Z
LAST-MODIFIED:20251014T114713Z
UID:1966-1760803200-1760806800@www.dynamic-gun-club.de
SUMMARY:Training Dynamisch Halstenbek
DESCRIPTION:Willkommen auf unserer Buchungsseite für das Schießtraining auf unserem dynamischen 25m Stand!\nAuf unserem Stand können sowohl Langwaffen (Flinte nur mit Slugs) als auch Kurzwaffen bis 4000J geschossen werden. Wir bieten Mehrdistanztraining an und sind auch dabei ein IPSC-Training zu ermöglichen. \nWir legen großen Wert auf die Sicherheit unserer Mitglieder und Gäste. Daher musst Du während des Trainings einen Gehörschutz und eine Schutzbrille tragen. Diese können in begrenzten Mengen auch zur Verfügung gestellt werden. Waffen und Munition sind vor Ort erhältlich.
URL:https://www.dynamic-gun-club.de/event/training-dynamisch-halstenbek-32/
LOCATION:Halstenbeker Schützenverein\, Am Schützenpl. 24\, Halstenbek\, 25469\, Deutschland
CATEGORIES:Dynamisches Training
ATTACH;FMTTYPE=image/jpeg:https://www.dynamic-gun-club.de/wp-content/uploads/2024/03/pexels-karolina-grabowska-5202383-scaled-e1675621272459-TgItwH.tmp_.jpg
ORGANIZER;CN="Dynamic Gun Club e.V.":MAILTO:kontakt@dynamic-gun-club.de
END:VEVENT
BEGIN:VEVENT
DTSTART;TZID=Europe/Berlin:20251018T170000
DTEND;TZID=Europe/Berlin:20251018T180000
DTSTAMP:20260424T182844
CREATED:20250930T061328Z
LAST-MODIFIED:20251014T114318Z
UID:1978-1760806800-1760810400@www.dynamic-gun-club.de
SUMMARY:Training Dynamisch Halstenbek
DESCRIPTION:Willkommen auf unserer Buchungsseite für das Schießtraining auf unserem dynamischen 25m Stand!\nAuf unserem Stand können sowohl Langwaffen (Flinte nur mit Slugs) als auch Kurzwaffen bis 4000J geschossen werden. Wir bieten Mehrdistanztraining an und sind auch dabei ein IPSC-Training zu ermöglichen. \nWir legen großen Wert auf die Sicherheit unserer Mitglieder und Gäste. Daher musst Du während des Trainings einen Gehörschutz und eine Schutzbrille tragen. Diese können in begrenzten Mengen auch zur Verfügung gestellt werden. Waffen und Munition sind vor Ort erhältlich.
URL:https://www.dynamic-gun-club.de/event/training-dynamisch-halstenbek-33/
LOCATION:Halstenbeker Schützenverein\, Am Schützenpl. 24\, Halstenbek\, 25469\, Deutschland
CATEGORIES:Dynamisches Training
ATTACH;FMTTYPE=image/jpeg:https://www.dynamic-gun-club.de/wp-content/uploads/2024/03/pexels-karolina-grabowska-5202383-scaled-e1675621272459-TgItwH.tmp_.jpg
ORGANIZER;CN="Dynamic Gun Club e.V.":MAILTO:kontakt@dynamic-gun-club.de
END:VEVENT
END:VCALENDAR