BEGIN:VCALENDAR
VERSION:2.0
PRODID:-//Dynamic Gun Club e. V. - ECPv6.15.20//NONSGML v1.0//EN
CALSCALE:GREGORIAN
METHOD:PUBLISH
X-ORIGINAL-URL:https://www.dynamic-gun-club.de
X-WR-CALDESC:Veranstaltungen für Dynamic Gun Club e. V.
REFRESH-INTERVAL;VALUE=DURATION:PT1H
X-Robots-Tag:noindex
X-PUBLISHED-TTL:PT1H
BEGIN:VTIMEZONE
TZID:Europe/Berlin
BEGIN:DAYLIGHT
TZOFFSETFROM:+0100
TZOFFSETTO:+0200
TZNAME:CEST
DTSTART:20240331T010000
END:DAYLIGHT
BEGIN:STANDARD
TZOFFSETFROM:+0200
TZOFFSETTO:+0100
TZNAME:CET
DTSTART:20241027T010000
END:STANDARD
BEGIN:DAYLIGHT
TZOFFSETFROM:+0100
TZOFFSETTO:+0200
TZNAME:CEST
DTSTART:20250330T010000
END:DAYLIGHT
BEGIN:STANDARD
TZOFFSETFROM:+0200
TZOFFSETTO:+0100
TZNAME:CET
DTSTART:20251026T010000
END:STANDARD
BEGIN:DAYLIGHT
TZOFFSETFROM:+0100
TZOFFSETTO:+0200
TZNAME:CEST
DTSTART:20260329T010000
END:DAYLIGHT
BEGIN:STANDARD
TZOFFSETFROM:+0200
TZOFFSETTO:+0100
TZNAME:CET
DTSTART:20261025T010000
END:STANDARD
END:VTIMEZONE
BEGIN:VEVENT
DTSTART;TZID=Europe/Berlin:20250705T150000
DTEND;TZID=Europe/Berlin:20250705T160000
DTSTAMP:20260424T213318
CREATED:20250628T094833Z
LAST-MODIFIED:20250628T095753Z
UID:2448-1751727600-1751731200@www.dynamic-gun-club.de
SUMMARY:Garlsdorf 100m
DESCRIPTION:100m Traning in Garlsdorf. Bitte mindestens 20 Min früher vor Ort sein\, um die Anmeldung zu erledigen. BDS-Ausweis muss unbedingt migebracht werden!
URL:https://www.dynamic-gun-club.de/event/garlsdorf-100m/
LOCATION:Schießstand Garlstorf gGmbH\, Zur Osterheide 100\, Garlstorf\, 21376\, Deutschland
CATEGORIES:Langwaffe 100m
ORGANIZER;CN="Dynamic Gun Club e.V.":MAILTO:kontakt@dynamic-gun-club.de
END:VEVENT
BEGIN:VEVENT
DTSTART;TZID=Europe/Berlin:20250705T160000
DTEND;TZID=Europe/Berlin:20250705T180000
DTSTAMP:20260424T213318
CREATED:20250628T095109Z
LAST-MODIFIED:20250628T095821Z
UID:2451-1751731200-1751738400@www.dynamic-gun-club.de
SUMMARY:Garlsdorf Trap
DESCRIPTION:Wir haben den Trap-Stand für 2 Stunden. Bitte mindestens 20 Min früher vor Ort sein\, um die Anmeldung zu erledigen. BDS-Ausweis muss unbedingt migebracht werden!
URL:https://www.dynamic-gun-club.de/event/garlsdorf-trap/
LOCATION:Schießstand Garlstorf gGmbH\, Zur Osterheide 100\, Garlstorf\, 21376\, Deutschland
CATEGORIES:Tontaubenschießen
ORGANIZER;CN="Dynamic Gun Club e.V.":MAILTO:kontakt@dynamic-gun-club.de
END:VEVENT
BEGIN:VEVENT
DTSTART;TZID=Europe/Berlin:20250713T100000
DTEND;TZID=Europe/Berlin:20250713T110000
DTSTAMP:20260424T213318
CREATED:20250629T201730Z
LAST-MODIFIED:20250629T201730Z
UID:1939-1752400800-1752404400@www.dynamic-gun-club.de
SUMMARY:Training Statisch Reinbek
DESCRIPTION:Willkommen auf unserer Buchungsseite für das Kurzwaffentraining auf unserem statischen 25m Stand!\nAuf diesem Stand können Kurzwaffen und Langwaffen bis 1500J geschossen werden. Auch Vorderlader sind möglich\, muss aber vorher abgesprochen werden. \nWir legen großen Wert auf die Sicherheit unserer Mitglieder und Gäste. Daher musst Du während des Trainings einen Gehörschutz und eine Schutzbrille tragen. Diese können in begrenzten Mengen auch zur Verfügung gestellt werden. Waffen und Munition sind vor Ort erhältlich.
URL:https://www.dynamic-gun-club.de/event/training-statisch-reinbek-14/
LOCATION:Reinbeker Schützenverein von 1874 e.V.\, Loddenallee 4\, Reinbek\, Hamburg\, 21465\, Deutschland
CATEGORIES:Kurzwaffentraining
ATTACH;FMTTYPE=image/jpeg:https://www.dynamic-gun-club.de/wp-content/uploads/2023/01/hand-3052115_640-e1674247857434.jpg
ORGANIZER;CN="Dynamic Gun Club e.V.":MAILTO:kontakt@dynamic-gun-club.de
END:VEVENT
BEGIN:VEVENT
DTSTART;TZID=Europe/Berlin:20250713T110000
DTEND;TZID=Europe/Berlin:20250713T120000
DTSTAMP:20260424T213318
CREATED:20250629T201840Z
LAST-MODIFIED:20250629T201840Z
UID:1951-1752404400-1752408000@www.dynamic-gun-club.de
SUMMARY:Training Statisch Reinbek
DESCRIPTION:Willkommen auf unserer Buchungsseite für das Kurzwaffentraining auf unserem statischen 25m Stand!\nAuf diesem Stand können Kurzwaffen und Langwaffen bis 1500J geschossen werden. Auch Vorderlader sind möglich\, muss aber vorher abgesprochen werden. \nWir legen großen Wert auf die Sicherheit unserer Mitglieder und Gäste. Daher musst Du während des Trainings einen Gehörschutz und eine Schutzbrille tragen. Diese können in begrenzten Mengen auch zur Verfügung gestellt werden. Waffen und Munition sind vor Ort erhältlich.
URL:https://www.dynamic-gun-club.de/event/training-statisch-reinbek-15/
LOCATION:Reinbeker Schützenverein von 1874 e.V.\, Loddenallee 4\, Reinbek\, Hamburg\, 21465\, Deutschland
CATEGORIES:Kurzwaffentraining
ATTACH;FMTTYPE=image/jpeg:https://www.dynamic-gun-club.de/wp-content/uploads/2023/01/hand-3052115_640-e1674247857434.jpg
ORGANIZER;CN="Dynamic Gun Club e.V.":MAILTO:kontakt@dynamic-gun-club.de
END:VEVENT
BEGIN:VEVENT
DTSTART;TZID=Europe/Berlin:20250719T160000
DTEND;TZID=Europe/Berlin:20250719T170000
DTSTAMP:20260424T213318
CREATED:20250629T201954Z
LAST-MODIFIED:20250629T201954Z
UID:1963-1752940800-1752944400@www.dynamic-gun-club.de
SUMMARY:Training Dynamisch Halstenbek
DESCRIPTION:Willkommen auf unserer Buchungsseite für das Schießtraining auf unserem dynamischen 25m Stand!\nAuf unserem Stand können sowohl Langwaffen (Flinte nur mit Slugs) als auch Kurzwaffen bis 4000J geschossen werden. Wir bieten Mehrdistanztraining an und sind auch dabei ein IPSC-Training zu ermöglichen. \nWir legen großen Wert auf die Sicherheit unserer Mitglieder und Gäste. Daher musst Du während des Trainings einen Gehörschutz und eine Schutzbrille tragen. Diese können in begrenzten Mengen auch zur Verfügung gestellt werden. Waffen und Munition sind vor Ort erhältlich.
URL:https://www.dynamic-gun-club.de/event/training-dynamisch-halstenbek-24/
LOCATION:Halstenbeker Schützenverein\, Am Schützenpl. 24\, Halstenbek\, 25469\, Deutschland
CATEGORIES:Dynamisches Training
ATTACH;FMTTYPE=image/jpeg:https://www.dynamic-gun-club.de/wp-content/uploads/2024/03/pexels-karolina-grabowska-5202383-scaled-e1675621272459-TgItwH.tmp_.jpg
ORGANIZER;CN="Dynamic Gun Club e.V.":MAILTO:kontakt@dynamic-gun-club.de
END:VEVENT
BEGIN:VEVENT
DTSTART;TZID=Europe/Berlin:20250719T170000
DTEND;TZID=Europe/Berlin:20250719T180000
DTSTAMP:20260424T213318
CREATED:20250629T202048Z
LAST-MODIFIED:20250629T202048Z
UID:1975-1752944400-1752948000@www.dynamic-gun-club.de
SUMMARY:Training Dynamisch Halstenbek
DESCRIPTION:Willkommen auf unserer Buchungsseite für das Schießtraining auf unserem dynamischen 25m Stand!\nAuf unserem Stand können sowohl Langwaffen (Flinte nur mit Slugs) als auch Kurzwaffen bis 4000J geschossen werden. Wir bieten Mehrdistanztraining an und sind auch dabei ein IPSC-Training zu ermöglichen. \nWir legen großen Wert auf die Sicherheit unserer Mitglieder und Gäste. Daher musst Du während des Trainings einen Gehörschutz und eine Schutzbrille tragen. Diese können in begrenzten Mengen auch zur Verfügung gestellt werden. Waffen und Munition sind vor Ort erhältlich.
URL:https://www.dynamic-gun-club.de/event/training-dynamisch-halstenbek-25/
LOCATION:Halstenbeker Schützenverein\, Am Schützenpl. 24\, Halstenbek\, 25469\, Deutschland
CATEGORIES:Dynamisches Training
ATTACH;FMTTYPE=image/jpeg:https://www.dynamic-gun-club.de/wp-content/uploads/2024/03/pexels-karolina-grabowska-5202383-scaled-e1675621272459-TgItwH.tmp_.jpg
ORGANIZER;CN="Dynamic Gun Club e.V.":MAILTO:kontakt@dynamic-gun-club.de
END:VEVENT
BEGIN:VEVENT
DTSTART;TZID=Europe/Berlin:20250727T170000
DTEND;TZID=Europe/Berlin:20250727T180000
DTSTAMP:20260424T213318
CREATED:20250629T202140Z
LAST-MODIFIED:20250629T202140Z
UID:1987-1753635600-1753639200@www.dynamic-gun-club.de
SUMMARY:Training Dynamisch Halstenbek
DESCRIPTION:Willkommen auf unserer Buchungsseite für das Schießtraining auf unserem dynamischen 25m Stand!\nAuf unserem Stand können sowohl Langwaffen (Flinte nur mit Slugs) als auch Kurzwaffen bis 4000J geschossen werden. Wir bieten Mehrdistanztraining an und sind auch dabei ein IPSC-Training zu ermöglichen. \nWir legen großen Wert auf die Sicherheit unserer Mitglieder und Gäste. Daher musst Du während des Trainings einen Gehörschutz und eine Schutzbrille tragen. Diese können in begrenzten Mengen auch zur Verfügung gestellt werden. Waffen und Munition sind vor Ort erhältlich.
URL:https://www.dynamic-gun-club.de/event/training-dynamisch-halstenbek-26/
LOCATION:Halstenbeker Schützenverein\, Am Schützenpl. 24\, Halstenbek\, 25469\, Deutschland
CATEGORIES:Dynamisches Training
ATTACH;FMTTYPE=image/jpeg:https://www.dynamic-gun-club.de/wp-content/uploads/2024/03/pexels-karolina-grabowska-5202383-scaled-e1675621272459-TgItwH.tmp_.jpg
ORGANIZER;CN="Dynamic Gun Club e.V.":MAILTO:kontakt@dynamic-gun-club.de
END:VEVENT
BEGIN:VEVENT
DTSTART;TZID=Europe/Berlin:20250727T180000
DTEND;TZID=Europe/Berlin:20250727T190000
DTSTAMP:20260424T213318
CREATED:20250629T202335Z
LAST-MODIFIED:20250714T205406Z
UID:1999-1753639200-1753642800@www.dynamic-gun-club.de
SUMMARY:Training Dynamisch Halstenbek
DESCRIPTION:Willkommen auf unserer Buchungsseite für das Schießtraining auf unserem dynamischen 25m Stand!\nAuf unserem Stand können sowohl Langwaffen (Flinte nur mit Slugs) als auch Kurzwaffen bis 4000J geschossen werden. Wir bieten Mehrdistanztraining an und sind auch dabei ein IPSC-Training zu ermöglichen. \nWir legen großen Wert auf die Sicherheit unserer Mitglieder und Gäste. Daher musst Du während des Trainings einen Gehörschutz und eine Schutzbrille tragen. Diese können in begrenzten Mengen auch zur Verfügung gestellt werden. Waffen und Munition sind vor Ort erhältlich.
URL:https://www.dynamic-gun-club.de/event/training-dynamisch-halstenbek-27/
LOCATION:Halstenbeker Schützenverein\, Am Schützenpl. 24\, Halstenbek\, 25469\, Deutschland
CATEGORIES:Dynamisches Training
ATTACH;FMTTYPE=image/jpeg:https://www.dynamic-gun-club.de/wp-content/uploads/2024/03/pexels-karolina-grabowska-5202383-scaled-e1675621272459-TgItwH.tmp_.jpg
ORGANIZER;CN="Dynamic Gun Club e.V.":MAILTO:kontakt@dynamic-gun-club.de
END:VEVENT
END:VCALENDAR