BEGIN:VCALENDAR
VERSION:2.0
PRODID:-//Dynamic Gun Club e. V. - ECPv6.15.20//NONSGML v1.0//EN
CALSCALE:GREGORIAN
METHOD:PUBLISH
X-WR-CALNAME:Dynamic Gun Club e. V.
X-ORIGINAL-URL:https://www.dynamic-gun-club.de
X-WR-CALDESC:Veranstaltungen für Dynamic Gun Club e. V.
REFRESH-INTERVAL;VALUE=DURATION:PT1H
X-Robots-Tag:noindex
X-PUBLISHED-TTL:PT1H
BEGIN:VTIMEZONE
TZID:Europe/Berlin
BEGIN:DAYLIGHT
TZOFFSETFROM:+0100
TZOFFSETTO:+0200
TZNAME:CEST
DTSTART:20250330T010000
END:DAYLIGHT
BEGIN:STANDARD
TZOFFSETFROM:+0200
TZOFFSETTO:+0100
TZNAME:CET
DTSTART:20251026T010000
END:STANDARD
BEGIN:DAYLIGHT
TZOFFSETFROM:+0100
TZOFFSETTO:+0200
TZNAME:CEST
DTSTART:20260329T010000
END:DAYLIGHT
BEGIN:STANDARD
TZOFFSETFROM:+0200
TZOFFSETTO:+0100
TZNAME:CET
DTSTART:20261025T010000
END:STANDARD
BEGIN:DAYLIGHT
TZOFFSETFROM:+0100
TZOFFSETTO:+0200
TZNAME:CEST
DTSTART:20270328T010000
END:DAYLIGHT
BEGIN:STANDARD
TZOFFSETFROM:+0200
TZOFFSETTO:+0100
TZNAME:CET
DTSTART:20271031T010000
END:STANDARD
END:VTIMEZONE
BEGIN:VEVENT
DTSTART;TZID=Europe/Berlin:20260208T100000
DTEND;TZID=Europe/Berlin:20260208T110000
DTSTAMP:20260424T114059
CREATED:20260130T103413Z
LAST-MODIFIED:20260130T103413Z
UID:3079-1770544800-1770548400@www.dynamic-gun-club.de
SUMMARY:Training Statisch Reinbek
DESCRIPTION:„Willkommen auf unserer Buchungsseite für das Kurzwaffentraining auf unserem statischen 25m Stand! \nAuf diesem Stand können Kurzwaffen und Langwaffen bis 1500J geschossen werden. Auch Vorderlader sind möglich\, muss aber vorher abgesprochen werden. \nWir legen großen Wert auf die Sicherheit unserer Mitglieder und Gäste. Daher musst Du während des Trainings einen Gehörschutz und eine Schutzbrille tragen. Diese können in begrenzten Mengen auch zur Verfügung gestellt werden. Waffen und Munition sind vor Ort erhältlich.“
URL:https://www.dynamic-gun-club.de/event/training-statisch-reinbek-26/
LOCATION:Reinbeker Schützenverein von 1874 e.V.\, Loddenallee 4\, Reinbek\, Hamburg\, 21465\, Deutschland
CATEGORIES:Kurzwaffentraining
ATTACH;FMTTYPE=image/jpeg:https://www.dynamic-gun-club.de/wp-content/uploads/2023/01/hand-3052115_640-e1674247857434.jpg
ORGANIZER;CN="Dynamic Gun Club e.V.":MAILTO:kontakt@dynamic-gun-club.de
END:VEVENT
BEGIN:VEVENT
DTSTART;TZID=Europe/Berlin:20260208T110000
DTEND;TZID=Europe/Berlin:20260208T120000
DTSTAMP:20260424T114059
CREATED:20260130T103504Z
LAST-MODIFIED:20260130T103504Z
UID:3091-1770548400-1770552000@www.dynamic-gun-club.de
SUMMARY:Training Statisch Reinbek
DESCRIPTION:„Willkommen auf unserer Buchungsseite für das Kurzwaffentraining auf unserem statischen 25m Stand! \nAuf diesem Stand können Kurzwaffen und Langwaffen bis 1500J geschossen werden. Auch Vorderlader sind möglich\, muss aber vorher abgesprochen werden. \nWir legen großen Wert auf die Sicherheit unserer Mitglieder und Gäste. Daher musst Du während des Trainings einen Gehörschutz und eine Schutzbrille tragen. Diese können in begrenzten Mengen auch zur Verfügung gestellt werden. Waffen und Munition sind vor Ort erhältlich.“
URL:https://www.dynamic-gun-club.de/event/training-statisch-reinbek-27/
LOCATION:Reinbeker Schützenverein von 1874 e.V.\, Loddenallee 4\, Reinbek\, Hamburg\, 21465\, Deutschland
CATEGORIES:Kurzwaffentraining
ATTACH;FMTTYPE=image/jpeg:https://www.dynamic-gun-club.de/wp-content/uploads/2023/01/hand-3052115_640-e1674247857434.jpg
ORGANIZER;CN="Dynamic Gun Club e.V.":MAILTO:kontakt@dynamic-gun-club.de
END:VEVENT
BEGIN:VEVENT
DTSTART;TZID=Europe/Berlin:20260221T160000
DTEND;TZID=Europe/Berlin:20260221T170000
DTSTAMP:20260424T114059
CREATED:20260130T142628Z
LAST-MODIFIED:20260201T191928Z
UID:3103-1771689600-1771693200@www.dynamic-gun-club.de
SUMMARY:Training Dynamisch Halstenbek
DESCRIPTION:„Willkommen auf unserer Buchungsseite für das Schießtraining auf unserem dynamischen 50m Stand! \nAuf unserem Stand können sowohl Langwaffen (Flinte nur mit Slugs) als auch Kurzwaffen bis 4000J geschossen werden. Wir bieten Mehrdistanztraining an und sind auch dabei ein IPSC-Training zu ermöglichen. \nWir legen großen Wert auf die Sicherheit unserer Mitglieder und Gäste. Daher musst Du während des Trainings einen Gehörschutz und eine Schutzbrille tragen. Diese können in begrenzten Mengen auch zur Verfügung gestellt werden. Waffen und Munition sind vor Ort erhältlich.“
URL:https://www.dynamic-gun-club.de/event/training-dynamisch-halstenbek-44/
LOCATION:Halstenbeker Schützenverein\, Am Schützenpl. 24\, Halstenbek\, 25469\, Deutschland
CATEGORIES:Dynamisches Training
ATTACH;FMTTYPE=image/jpeg:https://www.dynamic-gun-club.de/wp-content/uploads/2024/03/pexels-karolina-grabowska-5202383-scaled-e1675621272459-TgItwH.tmp_.jpg
ORGANIZER;CN="Dynamic Gun Club e.V.":MAILTO:kontakt@dynamic-gun-club.de
END:VEVENT
BEGIN:VEVENT
DTSTART;TZID=Europe/Berlin:20260221T170000
DTEND;TZID=Europe/Berlin:20260221T180000
DTSTAMP:20260424T114059
CREATED:20260130T142719Z
LAST-MODIFIED:20260201T192011Z
UID:3115-1771693200-1771696800@www.dynamic-gun-club.de
SUMMARY:Training Dynamisch Halstenbek
DESCRIPTION:„Willkommen auf unserer Buchungsseite für das Schießtraining auf unserem dynamischen 50m Stand! \nAuf unserem Stand können sowohl Langwaffen (Flinte nur mit Slugs) als auch Kurzwaffen bis 4000J geschossen werden. Wir bieten Mehrdistanztraining an und sind auch dabei ein IPSC-Training zu ermöglichen. \nWir legen großen Wert auf die Sicherheit unserer Mitglieder und Gäste. Daher musst Du während des Trainings einen Gehörschutz und eine Schutzbrille tragen. Diese können in begrenzten Mengen auch zur Verfügung gestellt werden. Waffen und Munition sind vor Ort erhältlich.“
URL:https://www.dynamic-gun-club.de/event/training-dynamisch-halstenbek-45/
LOCATION:Halstenbeker Schützenverein\, Am Schützenpl. 24\, Halstenbek\, 25469\, Deutschland
CATEGORIES:Dynamisches Training
ATTACH;FMTTYPE=image/jpeg:https://www.dynamic-gun-club.de/wp-content/uploads/2024/03/pexels-karolina-grabowska-5202383-scaled-e1675621272459-TgItwH.tmp_.jpg
ORGANIZER;CN="Dynamic Gun Club e.V.":MAILTO:kontakt@dynamic-gun-club.de
END:VEVENT
BEGIN:VEVENT
DTSTART;TZID=Europe/Berlin:20260222T170000
DTEND;TZID=Europe/Berlin:20260222T180000
DTSTAMP:20260424T114059
CREATED:20260130T142800Z
LAST-MODIFIED:20260201T192055Z
UID:3127-1771779600-1771783200@www.dynamic-gun-club.de
SUMMARY:Training Dynamisch Halstenbek
DESCRIPTION:„Willkommen auf unserer Buchungsseite für das Schießtraining auf unserem dynamischen 50m Stand! \nAuf unserem Stand können sowohl Langwaffen (Flinte nur mit Slugs) als auch Kurzwaffen bis 4000J geschossen werden. Wir bieten Mehrdistanztraining an und sind auch dabei ein IPSC-Training zu ermöglichen. \nWir legen großen Wert auf die Sicherheit unserer Mitglieder und Gäste. Daher musst Du während des Trainings einen Gehörschutz und eine Schutzbrille tragen. Diese können in begrenzten Mengen auch zur Verfügung gestellt werden. Waffen und Munition sind vor Ort erhältlich.“
URL:https://www.dynamic-gun-club.de/event/training-dynamisch-halstenbek-46/
LOCATION:Halstenbeker Schützenverein\, Am Schützenpl. 24\, Halstenbek\, 25469\, Deutschland
CATEGORIES:Dynamisches Training
ATTACH;FMTTYPE=image/jpeg:https://www.dynamic-gun-club.de/wp-content/uploads/2024/03/pexels-karolina-grabowska-5202383-scaled-e1675621272459-TgItwH.tmp_.jpg
ORGANIZER;CN="Dynamic Gun Club e.V.":MAILTO:kontakt@dynamic-gun-club.de
END:VEVENT
BEGIN:VEVENT
DTSTART;TZID=Europe/Berlin:20260222T180000
DTEND;TZID=Europe/Berlin:20260222T190000
DTSTAMP:20260424T114059
CREATED:20260130T143033Z
LAST-MODIFIED:20260201T192131Z
UID:3139-1771783200-1771786800@www.dynamic-gun-club.de
SUMMARY:Training Dynamisch Halstenbek (nur Langwaffen)
DESCRIPTION:„Willkommen auf unserer Buchungsseite für das Schießtraining auf unserem dynamischen 50m Stand! \nAuf unserem Stand können sowohl Langwaffen (Flinte nur mit Slugs) als auch Kurzwaffen bis 4000J geschossen werden. Wir bieten Mehrdistanztraining an und sind auch dabei ein IPSC-Training zu ermöglichen.\nIn dieser Stunde wird auf 50m geschossen.\nWir legen großen Wert auf die Sicherheit unserer Mitglieder und Gäste. Daher musst Du während des Trainings einen Gehörschutz und eine Schutzbrille tragen. Diese können in begrenzten Mengen auch zur Verfügung gestellt werden. Waffen und Munition sind vor Ort erhältlich.“
URL:https://www.dynamic-gun-club.de/event/training-dynamisch-halstenbek-nur-langwaffen-5/
LOCATION:Halstenbeker Schützenverein\, Am Schützenpl. 24\, Halstenbek\, 25469\, Deutschland
CATEGORIES:50m Training
ATTACH;FMTTYPE=image/jpeg:https://www.dynamic-gun-club.de/wp-content/uploads/2024/03/pexels-karolina-grabowska-5202383-scaled-e1675621272459-TgItwH.tmp_.jpg
ORGANIZER;CN="Dynamic Gun Club e.V.":MAILTO:kontakt@dynamic-gun-club.de
END:VEVENT
END:VCALENDAR